BEGIN:VCALENDAR
VERSION:2.0
PRODID:-//Congregation Beth El of Montgomery County - ECPv6.15.20//NONSGML v1.0//EN
CALSCALE:GREGORIAN
METHOD:PUBLISH
X-WR-CALNAME:Congregation Beth El of Montgomery County
X-ORIGINAL-URL:https://www.bethelmc.org
X-WR-CALDESC:Events for Congregation Beth El of Montgomery County
REFRESH-INTERVAL;VALUE=DURATION:PT1H
X-Robots-Tag:noindex
X-PUBLISHED-TTL:PT1H
BEGIN:VTIMEZONE
TZID:America/New_York
BEGIN:DAYLIGHT
TZOFFSETFROM:-0500
TZOFFSETTO:-0400
TZNAME:EDT
DTSTART:20250309T070000
END:DAYLIGHT
BEGIN:STANDARD
TZOFFSETFROM:-0400
TZOFFSETTO:-0500
TZNAME:EST
DTSTART:20251102T060000
END:STANDARD
BEGIN:DAYLIGHT
TZOFFSETFROM:-0500
TZOFFSETTO:-0400
TZNAME:EDT
DTSTART:20260308T070000
END:DAYLIGHT
BEGIN:STANDARD
TZOFFSETFROM:-0400
TZOFFSETTO:-0500
TZNAME:EST
DTSTART:20261101T060000
END:STANDARD
BEGIN:DAYLIGHT
TZOFFSETFROM:-0500
TZOFFSETTO:-0400
TZNAME:EDT
DTSTART:20270314T070000
END:DAYLIGHT
BEGIN:STANDARD
TZOFFSETFROM:-0400
TZOFFSETTO:-0500
TZNAME:EST
DTSTART:20271107T060000
END:STANDARD
END:VTIMEZONE
BEGIN:VEVENT
DTSTART;TZID=America/New_York:20260415T123000
DTEND;TZID=America/New_York:20260415T160000
DTSTAMP:20260420T094726
CREATED:20260327T184916Z
LAST-MODIFIED:20260413T181326Z
UID:10001647-1776256200-1776268800@www.bethelmc.org
SUMMARY:Beth El Youth -  MCPS Early Release
DESCRIPTION:This event has been canceled.
URL:https://www.bethelmc.org/events/early-release-0415/
LOCATION:Congregation Beth El\, 8215 Old Georgetown Rd\, Bethesda\, MD\, 20814\, United States
CATEGORIES:Beth El Youth,Connect,Youth Events
ATTACH;FMTTYPE=image/png:https://www.bethelmc.org/wp-content/uploads/2026/03/MCPS-Early-Release-website.png
ORGANIZER;CN="Beth El Youth":MAILTO:abrown@bethelmc.org
END:VEVENT
BEGIN:VEVENT
DTSTART;TZID=America/New_York:20260412T120000
DTEND;TZID=America/New_York:20260412T130000
DTSTAMP:20260420T094726
CREATED:20251001T163309Z
LAST-MODIFIED:20260219T192641Z
UID:10001492-1775995200-1775998800@www.bethelmc.org
SUMMARY:Tzelem
DESCRIPTION:Tzelem is Beth El’s group for LGBTQ+ teens. This group is geared for 7th-12th graders and is meant to create a safe space for Jewish teens of all genders and sexualities to talk about the issues in their lives as teens. For more information\, contact Allison Brown abrown@bethelmc.org. \nPlease use the form below to sign up. \n﻿﻿﻿﻿﻿﻿﻿﻿
URL:https://www.bethelmc.org/events/tzelem-0412/
LOCATION:Congregation Beth El\, 8215 Old Georgetown Rd\, Bethesda\, MD\, 20814\, United States
CATEGORIES:Beth El Youth,Connect,Featured Events,Teens,Youth Events
ATTACH;FMTTYPE=image/png:https://www.bethelmc.org/wp-content/uploads/2025/10/Tzelem-Graphic-.png
ORGANIZER;CN="Beth El Youth":MAILTO:abrown@bethelmc.org
END:VEVENT
BEGIN:VEVENT
DTSTART;TZID=America/New_York:20260322T114500
DTEND;TZID=America/New_York:20260322T124500
DTSTAMP:20260420T094726
CREATED:20260227T000510Z
LAST-MODIFIED:20260304T232343Z
UID:10001622-1774179900-1774183500@www.bethelmc.org
SUMMARY:Rosh Hodesh
DESCRIPTION:Rosh Hodesh is a monthly program designed for sixth grade girls and youth who identify with girlhood or outside the gender binary. Participants come together to build friendships\, explore Jewish values\, and talk about the things that matter—like identity\, confidence\, and connection. Through games\, discussion\, and creative activities\, guided by a trained adult mentor\, participants will grow as individuals and as a group. For more information\, contact Allison Brown at abrown@bethelmc.org. \nBeth El’s Rosh Hodesh is presented in partnership with Moving Traditions. \nPlease use the form below to sign up. \n﻿﻿﻿﻿﻿
URL:https://www.bethelmc.org/events/rosh-hodesh-0322/
LOCATION:Congregation Beth El\, 8215 Old Georgetown Rd\, Bethesda\, MD\, 20814\, United States
CATEGORIES:Beth El Youth,Connect,Featured Events
ATTACH;FMTTYPE=image/png:https://www.bethelmc.org/wp-content/uploads/2025/10/Rosh-Hodesh.png
ORGANIZER;CN="Beth El Youth":MAILTO:abrown@bethelmc.org
END:VEVENT
BEGIN:VEVENT
DTSTART;TZID=America/New_York:20260315T120000
DTEND;TZID=America/New_York:20260315T130000
DTSTAMP:20260420T094726
CREATED:20251001T163214Z
LAST-MODIFIED:20260218T052919Z
UID:10001491-1773576000-1773579600@www.bethelmc.org
SUMMARY:Tzelem
DESCRIPTION:Tzelem is Beth El’s group for LGBTQ+ teens. This group is geared for 7th-12th graders and is meant to create a safe space for Jewish teens of all genders and sexualities to talk about the issues in their lives as teens. For more information\, contact Allison Brown abrown@bethelmc.org. \nPlease use the form below to sign up. \n﻿﻿﻿﻿﻿﻿﻿
URL:https://www.bethelmc.org/events/tzelem-0315/
LOCATION:Congregation Beth El\, 8215 Old Georgetown Rd\, Bethesda\, MD\, 20814\, United States
CATEGORIES:Beth El Youth,Connect,Featured Events,Teens,Youth Events
ATTACH;FMTTYPE=image/png:https://www.bethelmc.org/wp-content/uploads/2025/10/Tzelem-Graphic-.png
ORGANIZER;CN="Beth El Youth":MAILTO:abrown@bethelmc.org
END:VEVENT
BEGIN:VEVENT
DTSTART;TZID=America/New_York:20260208T120000
DTEND;TZID=America/New_York:20260208T130000
DTSTAMP:20260420T094726
CREATED:20251001T163126Z
LAST-MODIFIED:20251218T180402Z
UID:10001490-1770552000-1770555600@www.bethelmc.org
SUMMARY:Tzelem
DESCRIPTION:Tzelem is Beth El’s group for LGBTQ+ teens. This group is geared for 7th-12th graders and is meant to create a safe space for Jewish teens of all genders and sexualities to talk about the issues in their lives as teens. For more information\, contact Allison Brown abrown@bethelmc.org. \nPlease use the form below to sign up. \n﻿﻿﻿﻿﻿
URL:https://www.bethelmc.org/events/tzelem-0208/
LOCATION:Congregation Beth El\, 8215 Old Georgetown Rd\, Bethesda\, MD\, 20814\, United States
CATEGORIES:Beth El Youth,Connect,Featured Events,Teens,Youth Events
ATTACH;FMTTYPE=image/png:https://www.bethelmc.org/wp-content/uploads/2025/10/Tzelem-Graphic-.png
ORGANIZER;CN="Beth El Youth":MAILTO:abrown@bethelmc.org
END:VEVENT
END:VCALENDAR