BEGIN:VCALENDAR
VERSION:2.0
PRODID:-//Congregation Beth El of Montgomery County - ECPv6.15.20//NONSGML v1.0//EN
CALSCALE:GREGORIAN
METHOD:PUBLISH
X-WR-CALNAME:Congregation Beth El of Montgomery County
X-ORIGINAL-URL:https://www.bethelmc.org
X-WR-CALDESC:Events for Congregation Beth El of Montgomery County
REFRESH-INTERVAL;VALUE=DURATION:PT1H
X-Robots-Tag:noindex
X-PUBLISHED-TTL:PT1H
BEGIN:VTIMEZONE
TZID:America/New_York
BEGIN:DAYLIGHT
TZOFFSETFROM:-0500
TZOFFSETTO:-0400
TZNAME:EDT
DTSTART:20250309T070000
END:DAYLIGHT
BEGIN:STANDARD
TZOFFSETFROM:-0400
TZOFFSETTO:-0500
TZNAME:EST
DTSTART:20251102T060000
END:STANDARD
BEGIN:DAYLIGHT
TZOFFSETFROM:-0500
TZOFFSETTO:-0400
TZNAME:EDT
DTSTART:20260308T070000
END:DAYLIGHT
BEGIN:STANDARD
TZOFFSETFROM:-0400
TZOFFSETTO:-0500
TZNAME:EST
DTSTART:20261101T060000
END:STANDARD
BEGIN:DAYLIGHT
TZOFFSETFROM:-0500
TZOFFSETTO:-0400
TZNAME:EDT
DTSTART:20270314T070000
END:DAYLIGHT
BEGIN:STANDARD
TZOFFSETFROM:-0400
TZOFFSETTO:-0500
TZNAME:EST
DTSTART:20271107T060000
END:STANDARD
END:VTIMEZONE
BEGIN:VEVENT
DTSTART;TZID=America/New_York:20260501T180000
DTEND;TZID=America/New_York:20260501T180000
DTSTAMP:20260420T060653
CREATED:20251215T215428Z
LAST-MODIFIED:20260325T222132Z
UID:10001562-1777658400-1777658400@www.bethelmc.org
SUMMARY:Young Family Shabbat with BEPS and Nitzanim
DESCRIPTION:Join other families with young children for a family friendly Shabbat service\, followed by a family style dinner! \nPlease use the form below to register for dinner by noon the Wednesday before the service takes place. \n﻿﻿﻿﻿﻿﻿﻿﻿﻿﻿
URL:https://www.bethelmc.org/events/family-shabbat-0501/
LOCATION:Congregation Beth El\, 8215 Old Georgetown Rd\, Bethesda\, MD\, 20814\, United States
CATEGORIES:Families with Young Children Shabbat,Featured Events,Nitzanim,Pray,Preschool,Services
ATTACH;FMTTYPE=image/png:https://www.bethelmc.org/wp-content/uploads/2025/08/Young-Family-Shabbat-Generic-Graphic.png
ORGANIZER;CN="Beth El Preschool":MAILTO:bepsboardchair@gmail.com
END:VEVENT
BEGIN:VEVENT
DTSTART;TZID=America/New_York:20260501T180000
DTEND;TZID=America/New_York:20260501T180000
DTSTAMP:20260420T060653
CREATED:20260401T164632Z
LAST-MODIFIED:20260401T164632Z
UID:10001654-1777658400-1777658400@www.bethelmc.org
SUMMARY:Shir Yachad Friday Night Musical Service
DESCRIPTION:Friday night is a time for community\, song\, and joyful noise. Everyone is invited to join us for this exciting service filled with music past and present that stirs the soul and welcomes Shabbat with  joy and warmth. \n\n6:00 pm: Everyone is invited to schmooze while enjoying a light dinner.\n7:00 pm: Shir Yachad service\n\nPlease register for the dinner using the form below by Wednesday\, April 29. No registration is needed to attend the service. \n \n 
URL:https://www.bethelmc.org/events/shir-yachad-0501/
LOCATION:Congregation Beth El\, 8215 Old Georgetown Rd\, Bethesda\, MD\, 20814\, United States
CATEGORIES:Community Events,Featured Events,Pray,Services,Shir Yachad
ATTACH;FMTTYPE=image/png:https://www.bethelmc.org/wp-content/uploads/2026/03/04-10-26_Shir-Yachad.png
ORGANIZER;CN="Hazzan Asa Fradkin":MAILTO:afradkin@bethelmc.org
END:VEVENT
BEGIN:VEVENT
DTSTART;TZID=America/New_York:20260508T183000
DTEND;TZID=America/New_York:20260508T183000
DTSTAMP:20260420T060653
CREATED:20260112T193220Z
LAST-MODIFIED:20260325T222130Z
UID:10001584-1778265000-1778265000@www.bethelmc.org
SUMMARY:Yedid Nefesh Friday Night Musical Service
DESCRIPTION:Join Rabbi Megdal for a Friday evening musical service that blends familiar melodies and traditional liturgy\, woven together with kavanot (intentions) and short teachings.
URL:https://www.bethelmc.org/events/yedid-nefesh-0508/
LOCATION:Congregation Beth El\, 8215 Old Georgetown Rd\, Bethesda\, MD\, 20814\, United States
CATEGORIES:Community Events,Featured Events,Pray,Services,Yedid Nefesh
ATTACH;FMTTYPE=image/png:https://www.bethelmc.org/wp-content/uploads/2023/10/Yedid-Nefesh-logo.png
ORGANIZER;CN="Rabbi Deborah Megdal":MAILTO:dmegdal@bethelmc.org
END:VEVENT
BEGIN:VEVENT
DTSTART;TZID=America/New_York:20260529T183000
DTEND;TZID=America/New_York:20260529T213000
DTSTAMP:20260420T060653
CREATED:20251103T214610Z
LAST-MODIFIED:20260325T222129Z
UID:10001527-1780079400-1780090200@www.bethelmc.org
SUMMARY:Kol Haneshama Friday Night Musical Service and Congregational Shabbat Dinner
DESCRIPTION:Join us on for prayer\, reflection\, and song! Welcome Shabbat in a joyful\, participatory\, and engaging service\, with melodies that calm\, songs that enliven\, and prayers that elevate. This lay-led service blends tradition and creativity\, drawing on contemporary and innovative Jewish music from around the world. \n\n6:30 pm – Kol Haneshama Musical Service\n7:30 pm – Congregational Shabbat Dinner\n8:15 pm – Guest speaker Jeffrey L. Katz\n\nAfter services and dinner\, join us as we welcome our special guest speaker\, Jeffrey L. Katz\, who will speak on “Unsettled Ground: Reflections on Germany’s Attempts to Make Amends.” \nJeffrey L. Katz is a veteran journalist with extensive experience working at newspapers\, magazines\, radio and online news\, including 15 years at NPR. His new book\, Unsettled Ground: Reflections on Germany’s Attempts to Make Amends\, is a personal take on Germany’s belated efforts to come to grips with the Holocaust. It’s a story of remembrance\, responsibility and reconciliation\, written by the son of survivors. The book is being praised as “a remarkably balanced and human portrait of the benefits and limits of reconciliation over time and space.” Katz traveled to Germany several times to explore his family’s roots and meet with local members of the country’s remembrance movement. Read more about Unsettled Ground. \nThe deadline to register for dinner is 12:00 pm on Wednesday\, May 27. No RSVP required to attend only the service and oneg. \n﻿
URL:https://www.bethelmc.org/events/kol-haneshama-0529/
LOCATION:Congregation Beth El\, 8215 Old Georgetown Rd\, Bethesda\, MD\, 20814\, United States
CATEGORIES:Featured Events,Food & Drink,Kol Haneshama,Music,Pray,Services,Shabbat
ATTACH;FMTTYPE=image/png:https://www.bethelmc.org/wp-content/uploads/2025/11/kol-haneshema_1.png
ORGANIZER;CN="Congregation Beth El":MAILTO:info@bethelmc.org
END:VEVENT
END:VCALENDAR