BEGIN:VCALENDAR
VERSION:2.0
PRODID:-//Congregation Beth El of Montgomery County - ECPv6.15.20//NONSGML v1.0//EN
CALSCALE:GREGORIAN
METHOD:PUBLISH
X-ORIGINAL-URL:https://www.bethelmc.org
X-WR-CALDESC:Events for Congregation Beth El of Montgomery County
REFRESH-INTERVAL;VALUE=DURATION:PT1H
X-Robots-Tag:noindex
X-PUBLISHED-TTL:PT1H
BEGIN:VTIMEZONE
TZID:America/New_York
BEGIN:DAYLIGHT
TZOFFSETFROM:-0500
TZOFFSETTO:-0400
TZNAME:EDT
DTSTART:20250309T070000
END:DAYLIGHT
BEGIN:STANDARD
TZOFFSETFROM:-0400
TZOFFSETTO:-0500
TZNAME:EST
DTSTART:20251102T060000
END:STANDARD
BEGIN:DAYLIGHT
TZOFFSETFROM:-0500
TZOFFSETTO:-0400
TZNAME:EDT
DTSTART:20260308T070000
END:DAYLIGHT
BEGIN:STANDARD
TZOFFSETFROM:-0400
TZOFFSETTO:-0500
TZNAME:EST
DTSTART:20261101T060000
END:STANDARD
BEGIN:DAYLIGHT
TZOFFSETFROM:-0500
TZOFFSETTO:-0400
TZNAME:EDT
DTSTART:20270314T070000
END:DAYLIGHT
BEGIN:STANDARD
TZOFFSETFROM:-0400
TZOFFSETTO:-0500
TZNAME:EST
DTSTART:20271107T060000
END:STANDARD
END:VTIMEZONE
BEGIN:VEVENT
DTSTART;TZID=America/New_York:20260430T114500
DTEND;TZID=America/New_York:20260430T130000
DTSTAMP:20260420T040857
CREATED:20260316T172129Z
LAST-MODIFIED:20260326T190333Z
UID:10001640-1777549500-1777554000@www.bethelmc.org
SUMMARY:Dor L'Dor
DESCRIPTION:Calling all members\, especially seniors\, to join Beth El Preschool (BEPS) for a program that provides an opportunity to make connections across generations. Adults and kids will enjoy lunch\, have a chance to talk and share\, then join together for fun table activities\, such as bingo\, coloring\, and other games\, planned by the BEPS staff. We need plenty of seniors to match up with the kids\, so please join us. There is no cost\, but please register. \n﻿﻿
URL:https://www.bethelmc.org/events/dor-ldor-0430/
LOCATION:Congregation Beth El\, 8215 Old Georgetown Rd\, Bethesda\, MD\, 20814\, United States
CATEGORIES:Age and Stage,Chai Society 60+,Engage,Preschool,Senior Caucus
ATTACH;FMTTYPE=image/png:https://www.bethelmc.org/wp-content/uploads/2025/09/Dor-LDor-graphic.png
ORGANIZER;CN="Beth El Preschool":MAILTO:bepsboardchair@gmail.com
END:VEVENT
END:VCALENDAR