BEGIN:VCALENDAR
VERSION:2.0
PRODID:-//Congregation Beth El of Montgomery County - ECPv6.15.20//NONSGML v1.0//EN
CALSCALE:GREGORIAN
METHOD:PUBLISH
X-ORIGINAL-URL:https://www.bethelmc.org
X-WR-CALDESC:Events for Congregation Beth El of Montgomery County
REFRESH-INTERVAL;VALUE=DURATION:PT1H
X-Robots-Tag:noindex
X-PUBLISHED-TTL:PT1H
BEGIN:VTIMEZONE
TZID:America/New_York
BEGIN:DAYLIGHT
TZOFFSETFROM:-0500
TZOFFSETTO:-0400
TZNAME:EDT
DTSTART:20250309T070000
END:DAYLIGHT
BEGIN:STANDARD
TZOFFSETFROM:-0400
TZOFFSETTO:-0500
TZNAME:EST
DTSTART:20251102T060000
END:STANDARD
BEGIN:DAYLIGHT
TZOFFSETFROM:-0500
TZOFFSETTO:-0400
TZNAME:EDT
DTSTART:20260308T070000
END:DAYLIGHT
BEGIN:STANDARD
TZOFFSETFROM:-0400
TZOFFSETTO:-0500
TZNAME:EST
DTSTART:20261101T060000
END:STANDARD
BEGIN:DAYLIGHT
TZOFFSETFROM:-0500
TZOFFSETTO:-0400
TZNAME:EDT
DTSTART:20270314T070000
END:DAYLIGHT
BEGIN:STANDARD
TZOFFSETFROM:-0400
TZOFFSETTO:-0500
TZNAME:EST
DTSTART:20271107T060000
END:STANDARD
END:VTIMEZONE
BEGIN:VEVENT
DTSTART;TZID=America/New_York:20260424T183000
DTEND;TZID=America/New_York:20260424T213000
DTSTAMP:20260423T041745
CREATED:20251103T214330Z
LAST-MODIFIED:20260422T173949Z
UID:10001526-1777055400-1777066200@www.bethelmc.org
SUMMARY:Kol Haneshama Friday Night Musical Service with Shabbat Dinner Hosted by NuBEENs and Beyond BEENs
DESCRIPTION:Join us on for prayer\, reflection\, and song! Welcome Shabbat in a joyful\, participatory\, and engaging service\, with melodies that calm\, songs that enliven\, and prayers that elevate. This lay-led service blends tradition and creativity\, drawing on contemporary and innovative Jewish music from around the world. \n\n6:30 pm – Kol Haneshama Musical Service\n7:30 pm – Shabbat Dinner hosted by the NuBEENs and Beyond BEENs empty nester groups.\n8:15 pm – Guest speaker Andrew I. Schoenholtz\n\nFollowing Shabbat dinner\, we will welcome guest speaker Andrew I. Schoenholtz\, who will discuss “A Nation of Immigrants or a Nativist Nation: Which America Will Prevail?”  \nAndrew I. Schoenholtz is a Professor from Practice at Georgetown Law\, where he co-directs the Center for Applied Legal Studies\, the asylum clinic in which students represent refugees fleeing persecution who seek asylum in the United States. He also directs the Certificate in Refugees and Humanitarian Emergencies and serves as the faculty director of the Human Rights Institute. Schoenholtz has taught courses on refugee law and policy\, refugees and humanitarian emergencies\, and immigration law and policy\, as well as a practicum on the rights of detained immigrants. Prior to teaching at Georgetown\, he served as Deputy Director of the US Commission on Immigration Reform. He also practiced immigration\, asylum\, and international law with the Washington\, DC law firm of Covington & Burling. \nSchoenholtz has conducted fact-finding missions in Haiti\, Cuba\, Ecuador\, Germany\, Croatia\, Bosnia\, Malawi\, and Zambia to study root causes of forced migration\, refugee protection\, long-term solutions to mass migration emergencies\, and humanitarian relief operations. He researches and writes regularly on refugee law and policy. He holds a JD from Harvard Law School and a PhD from Brown University. \nDinner registration is now closed\, but all are welcome to join us for the service at 6:30 pm and the speaker at 8:15 pm.
URL:https://www.bethelmc.org/events/kol-haneshama-0424/
LOCATION:Congregation Beth El\, 8215 Old Georgetown Rd\, Bethesda\, MD\, 20814\, United States
CATEGORIES:Featured Events,Kol Haneshama,Music,Pray,Services,Shabbat
ATTACH;FMTTYPE=image/png:https://www.bethelmc.org/wp-content/uploads/2025/11/04-24-26_Kol-Haneshama.png
ORGANIZER;CN="Congregation Beth El":MAILTO:info@bethelmc.org
END:VEVENT
BEGIN:VEVENT
DTSTART;TZID=America/New_York:20260529T183000
DTEND;TZID=America/New_York:20260529T213000
DTSTAMP:20260423T041745
CREATED:20251103T214610Z
LAST-MODIFIED:20260325T222129Z
UID:10001527-1780079400-1780090200@www.bethelmc.org
SUMMARY:Kol Haneshama Friday Night Musical Service and Congregational Shabbat Dinner
DESCRIPTION:Join us on for prayer\, reflection\, and song! Welcome Shabbat in a joyful\, participatory\, and engaging service\, with melodies that calm\, songs that enliven\, and prayers that elevate. This lay-led service blends tradition and creativity\, drawing on contemporary and innovative Jewish music from around the world. \n\n6:30 pm – Kol Haneshama Musical Service\n7:30 pm – Congregational Shabbat Dinner\n8:15 pm – Guest speaker Jeffrey L. Katz\n\nAfter services and dinner\, join us as we welcome our special guest speaker\, Jeffrey L. Katz\, who will speak on “Unsettled Ground: Reflections on Germany’s Attempts to Make Amends.” \nJeffrey L. Katz is a veteran journalist with extensive experience working at newspapers\, magazines\, radio and online news\, including 15 years at NPR. His new book\, Unsettled Ground: Reflections on Germany’s Attempts to Make Amends\, is a personal take on Germany’s belated efforts to come to grips with the Holocaust. It’s a story of remembrance\, responsibility and reconciliation\, written by the son of survivors. The book is being praised as “a remarkably balanced and human portrait of the benefits and limits of reconciliation over time and space.” Katz traveled to Germany several times to explore his family’s roots and meet with local members of the country’s remembrance movement. Read more about Unsettled Ground. \nThe deadline to register for dinner is 12:00 pm on Wednesday\, May 27. No RSVP required to attend only the service and oneg. \n﻿
URL:https://www.bethelmc.org/events/kol-haneshama-0529/
LOCATION:Congregation Beth El\, 8215 Old Georgetown Rd\, Bethesda\, MD\, 20814\, United States
CATEGORIES:Featured Events,Food & Drink,Kol Haneshama,Music,Pray,Services,Shabbat
ATTACH;FMTTYPE=image/png:https://www.bethelmc.org/wp-content/uploads/2025/11/kol-haneshema_1.png
ORGANIZER;CN="Congregation Beth El":MAILTO:info@bethelmc.org
END:VEVENT
BEGIN:VEVENT
DTSTART;TZID=America/New_York:20260626T180000
DTEND;TZID=America/New_York:20260626T210000
DTSTAMP:20260423T041745
CREATED:20251103T214732Z
LAST-MODIFIED:20260325T222128Z
UID:10001528-1782496800-1782507600@www.bethelmc.org
SUMMARY:Kol Haneshama Friday Night Musical Service
DESCRIPTION:Join us on for prayer\, reflection\, and song! Welcome Shabbat in a joyful\, participatory\, and engaging service\, with melodies that calm\, songs that enliven\, and prayers that elevate. This lay-led service blends tradition and creativity\, drawing on contemporary and innovative Jewish music from around the world. \n\n6:00 pm – Light Dinner\n7:00 pm – Kol Haneshama Musical Service\n8:15 pm – Oneg with guest speaker DeMaurice Smith\n\nFollowing the service\, there will be an oneg featuring special guest speaker DeMaurice Smith\, who will speak on “How Integrity\, Courage and the Collective Responsibility to Uplift Others Have Shaped a Career in Securing the Rights of Workers.”  \nPrior to his work with the NFL players union\, DeMaurice was a trial lawyer and litigation partner of two major DC law firms\, and he also served as the chair of one of the firm’s government investigations and white-collar practice groups. He also served as counsel to then-deputy attorney general Eric Holder in the US Department of Justice. DeMaurice also spent nine years with the U.S. Attorney’s office and one with the Department of Justice\, working on national security and prison construction-related issues. \nThe deadline to register for dinner is 12:00 pm on Wednesday\, June 24. No RSVP required to attend only the service and oneg. \n﻿﻿
URL:https://www.bethelmc.org/events/kol-haneshama-0626/
LOCATION:Congregation Beth El\, 8215 Old Georgetown Rd\, Bethesda\, MD\, 20814\, United States
CATEGORIES:Featured Events,Kol Haneshama,Music,Pray,Services,Shabbat
ATTACH;FMTTYPE=image/png:https://www.bethelmc.org/wp-content/uploads/2025/11/kol-haneshema_1.png
ORGANIZER;CN="Congregation Beth El":MAILTO:info@bethelmc.org
END:VEVENT
END:VCALENDAR