BEGIN:VCALENDAR
VERSION:2.0
PRODID:-//Congregation Beth El of Montgomery County - ECPv6.15.20//NONSGML v1.0//EN
CALSCALE:GREGORIAN
METHOD:PUBLISH
X-ORIGINAL-URL:https://www.bethelmc.org
X-WR-CALDESC:Events for Congregation Beth El of Montgomery County
REFRESH-INTERVAL;VALUE=DURATION:PT1H
X-Robots-Tag:noindex
X-PUBLISHED-TTL:PT1H
BEGIN:VTIMEZONE
TZID:America/New_York
BEGIN:DAYLIGHT
TZOFFSETFROM:-0500
TZOFFSETTO:-0400
TZNAME:EDT
DTSTART:20250309T070000
END:DAYLIGHT
BEGIN:STANDARD
TZOFFSETFROM:-0400
TZOFFSETTO:-0500
TZNAME:EST
DTSTART:20251102T060000
END:STANDARD
BEGIN:DAYLIGHT
TZOFFSETFROM:-0500
TZOFFSETTO:-0400
TZNAME:EDT
DTSTART:20260308T070000
END:DAYLIGHT
BEGIN:STANDARD
TZOFFSETFROM:-0400
TZOFFSETTO:-0500
TZNAME:EST
DTSTART:20261101T060000
END:STANDARD
BEGIN:DAYLIGHT
TZOFFSETFROM:-0500
TZOFFSETTO:-0400
TZNAME:EDT
DTSTART:20270314T070000
END:DAYLIGHT
BEGIN:STANDARD
TZOFFSETFROM:-0400
TZOFFSETTO:-0500
TZNAME:EST
DTSTART:20271107T060000
END:STANDARD
END:VTIMEZONE
BEGIN:VEVENT
DTSTART;TZID=America/New_York:20260304T103000
DTEND;TZID=America/New_York:20260304T120000
DTSTAMP:20260420T084130
CREATED:20260113T185304Z
LAST-MODIFIED:20260218T052044Z
UID:10001591-1772620200-1772625600@www.bethelmc.org
SUMMARY:Cafe Ivrit: Coffee & Hebrew with Yoel
DESCRIPTION:Coffee & Hebrew at Beth El\, led by our Israeli Shaliach\, Yoel Gleizer\, is a relaxed\, welcoming space to practice conversational Hebrew while enjoying great coffee and good company. Each session blends everyday Hebrew\, Israeli culture\, music\, humor\, and real-life conversation\, with a strong emphasis on connection and community. \nThis series is perfect for anyone who wants to: \n\nFeel more confident speaking Hebrew\nLearn useful\, real-world Hebrew phrases\nConnect to Israeli culture through coffee\, stories\, and music\nPractice Hebrew in a fun\, social\, and supportive environment\nPractice Hebrew at your pace\nEnjoy coffee and conversation\nFind community at Beth El\n\nNo prior Hebrew knowledge required; all levels welcome! This is a drop-in class\, which means you can attend as few or as many sessions as you like\, but you must register for each date separately. Please use the form below to sign up for March 4 \n﻿﻿﻿﻿﻿﻿
URL:https://www.bethelmc.org/events/hebrew-0304/
LOCATION:Congregation Beth El\, 8215 Old Georgetown Rd\, Bethesda\, MD\, 20814\, United States
CATEGORIES:Adult Education,Featured Events,Israel,Learn,Shaliach
ATTACH;FMTTYPE=image/png:https://www.bethelmc.org/wp-content/uploads/2026/01/02-11-26_Coffee.png
ORGANIZER;CN="Congregation Beth El":MAILTO:info@bethelmc.org
END:VEVENT
BEGIN:VEVENT
DTSTART;TZID=America/New_York:20260305T193000
DTEND;TZID=America/New_York:20260305T210000
DTSTAMP:20260420T084130
CREATED:20260106T205924Z
LAST-MODIFIED:20260218T052118Z
UID:10001573-1772739000-1772744400@www.bethelmc.org
SUMMARY:Hearing Men's Voices
DESCRIPTION:Beth El men are invited to join us in person at Beth El or via Zoom as Rabbi Harris leads a discussion of “What does it mean to be Jewish in America 2026?”\n \nPlease RSVP using the form below. \n﻿﻿﻿﻿﻿﻿
URL:https://www.bethelmc.org/events/hmv-0305/
LOCATION:Congregation Beth El\, 8215 Old Georgetown Rd\, Bethesda\, MD\, 20814\, United States
CATEGORIES:Adult Education,Connect,Featured Events,Men's Club,Online Events and Activities
ATTACH;FMTTYPE=image/png:https://www.bethelmc.org/wp-content/uploads/2024/01/HMV-e1599064817701-1.png
ORGANIZER;CN="Men's Club":MAILTO:rjspector@rcn.com
END:VEVENT
BEGIN:VEVENT
DTSTART;TZID=America/New_York:20260308T140000
DTEND;TZID=America/New_York:20260308T153000
DTSTAMP:20260420T084130
CREATED:20260219T203141Z
LAST-MODIFIED:20260219T203141Z
UID:10001615-1772978400-1772983800@www.bethelmc.org
SUMMARY:Chug Kriah Hebrew Literature Group
DESCRIPTION:Chug Kriah meets regularly to read and discuss modern Israeli literature in Hebrew. Our next meeting will be on March 8 at 2:00 pm via Zoom. We will complete our reading of Al Tesaper L’achicha (“Don’t Tell Your Brother”) by Meir Shalev. For more information including the Zoom link\, please contact Bill Kanter at kanterdsw@aol.com.
URL:https://www.bethelmc.org/events/chug-kriah-0308/
LOCATION:Congregation Beth El\, 8215 Old Georgetown Rd\, Bethesda\, MD\, 20814\, United States
CATEGORIES:Adult Education,Affinity Groups,Israel,Learn
ATTACH;FMTTYPE=image/png:https://www.bethelmc.org/wp-content/uploads/2026/02/03-08-26_Chug-Kriah.png
ORGANIZER;CN="Congregation Beth El":MAILTO:info@bethelmc.org
END:VEVENT
BEGIN:VEVENT
DTSTART;TZID=America/New_York:20260310T190000
DTEND;TZID=America/New_York:20260310T200000
DTSTAMP:20260420T084130
CREATED:20260219T202256Z
LAST-MODIFIED:20260304T232651Z
UID:10001613-1773169200-1773172800@www.bethelmc.org
SUMMARY:How to Prepare for High School
DESCRIPTION:Jared Friedland\, Founder of the Bethesda-based test prep and college admissions firm The Playbook\, and Steve Feldman\, Founder of the tutoring\, test prep\, and admissions firm Private Prep\, will be co-leading a special interactive workshop for 7th- and 8th-graders of Beth El. \nAmong other topics\, Jared and Steve will explain how: \n\nStudents can use high school to deepen existing interests – and discover new passions.\nStudents can succeed academically without becoming overwhelmed by the anxiety and stress that all too often accompany the transition to high school.\nStudents can avoid the pitfalls of high school\, including academic overload and unhealthy social media use.\n\nThere is no cost for this special opportunity. \n﻿
URL:https://www.bethelmc.org/events/high-school-0310/
LOCATION:Congregation Beth El\, 8215 Old Georgetown Rd\, Bethesda\, MD\, 20814\, United States
CATEGORIES:Adult Education,Age and Stage,Featured Events,Learn,Religious School
ATTACH;FMTTYPE=image/png:https://www.bethelmc.org/wp-content/uploads/2026/02/03-10-26_Prepare-for-High-School.png
ORGANIZER;CN="Beth El Religious School":MAILTO:abrown@bethelmc.org
END:VEVENT
BEGIN:VEVENT
DTSTART;TZID=America/New_York:20260310T200000
DTEND;TZID=America/New_York:20260310T210000
DTSTAMP:20260420T084130
CREATED:20260219T202550Z
LAST-MODIFIED:20260304T234749Z
UID:10001614-1773172800-1773176400@www.bethelmc.org
SUMMARY:Getting Ready for College Admissions
DESCRIPTION:Many of you have high school students who will be applying to college within the next few years. College admissions has changed so dramatically since all of us applied to school (way back in the 20th century). Today’s students face an ever-expanding list of decisions: \nShould they take the SAT or ACT? \nSubmit their scores to test-optional colleges? \nApply Early Decision or Early Action? \nFocus on grades\, extracurriculars\, summer internships\, or all of the above? \n(Phew!) \nThankfully\, there are two members of our congregation who are experts in helping teenagers and their families successfully navigate the college admissions process without becoming overwhelmed or stressed. \nJared Friedland\, Founder of the Bethesda-based test prep and college admissions firm The Playbook\, and Steve Feldman\, Founder of the tutoring\, test prep\, and admissions firm Private Prep\, will be co-leading a special interactive workshop for 9th- and 10th-graders of Beth El. \nAt a later date there will be a special Zoom presentation for Beth El parents. \nAmong other topics\, Jared and Steve will explain how students can: \n\nDiscover colleges where they will thrive academically\, socially\, and culturally.\nMaximize their chances of admission\, even to highly-selective universities and programs.\nUse extracurriculars\, summer programs\, and volunteer activities to demonstrate sought-after qualities like compassion\, leadership\, and ingenuity.\n\nThere is no cost for this special opportunity. \n﻿﻿
URL:https://www.bethelmc.org/events/college-admissions-0310/
LOCATION:Congregation Beth El\, 8215 Old Georgetown Rd\, Bethesda\, MD\, 20814\, United States
CATEGORIES:Adult Education,Age and Stage,Featured Events,Learn,Religious School
ATTACH;FMTTYPE=image/png:https://www.bethelmc.org/wp-content/uploads/2026/02/03-10-26_College-Admissions-Prep.png
ORGANIZER;CN="Beth El Religious School":MAILTO:abrown@bethelmc.org
END:VEVENT
BEGIN:VEVENT
DTSTART;TZID=America/New_York:20260311T103000
DTEND;TZID=America/New_York:20260311T120000
DTSTAMP:20260420T084130
CREATED:20260113T185426Z
LAST-MODIFIED:20260218T052425Z
UID:10001592-1773225000-1773230400@www.bethelmc.org
SUMMARY:Cafe Ivrit: Coffee & Hebrew with Yoel
DESCRIPTION:Coffee & Hebrew at Beth El\, led by our Israeli Shaliach\, Yoel Gleizer\, is a relaxed\, welcoming space to practice conversational Hebrew while enjoying great coffee and good company. Each session blends everyday Hebrew\, Israeli culture\, music\, humor\, and real-life conversation\, with a strong emphasis on connection and community. \nThis series is perfect for anyone who wants to: \n\nFeel more confident speaking Hebrew\nLearn useful\, real-world Hebrew phrases\nConnect to Israeli culture through coffee\, stories\, and music\nPractice Hebrew in a fun\, social\, and supportive environment\nPractice Hebrew at your pace\nEnjoy coffee and conversation\nFind community at Beth El\n\nNo prior Hebrew knowledge required; all levels welcome! This is a drop-in class\, which means you can attend as few or as many sessions as you like\, but you must register for each date separately. Please use the form below to sign up for March 11. \n﻿﻿﻿﻿﻿﻿
URL:https://www.bethelmc.org/events/hebrew-0311/
LOCATION:Congregation Beth El\, 8215 Old Georgetown Rd\, Bethesda\, MD\, 20814\, United States
CATEGORIES:Adult Education,Featured Events,Israel,Learn,Shaliach
ATTACH;FMTTYPE=image/png:https://www.bethelmc.org/wp-content/uploads/2026/01/02-11-26_Coffee.png
ORGANIZER;CN="Congregation Beth El":MAILTO:info@bethelmc.org
END:VEVENT
BEGIN:VEVENT
DTSTART;TZID=America/New_York:20260315T180000
DTEND;TZID=America/New_York:20260315T184500
DTSTAMP:20260420T084130
CREATED:20260304T212024Z
LAST-MODIFIED:20260305T000733Z
UID:10001627-1773597600-1773600300@www.bethelmc.org
SUMMARY:The Road Ahead: Preparing for High School
DESCRIPTION:Big transitions can feel overwhelming – for kids and for parents. Ready for the Next Step is a two-part workshop series designed to give families clarity and confidence during these pivotal years. \nIn Session 1\, we’ll explore how to prepare middle schoolers for high school success\, with practical advice\, big-picture perspective\, and space for real conversation. \nThese workshops will be led by two of Congregation Beth El’s congregants who run professional test preparation and college planning companies\, bringing both expertise and a deep understanding of our community. Join us for practical tools\, big-picture perspective\, and meaningful conversation as we support our children through what’s next. \nPlease use the form below to sign up for the 6:00 pm session. (Note: There is a session available at 7:00 pm for parents of 9th & 10th graders).
URL:https://www.bethelmc.org/events/road-ahead-0315a/
LOCATION:MD
CATEGORIES:Adult Education,Age and Stage,Family Education,Learn,Online Events and Activities,Religious School
ATTACH;FMTTYPE=image/png:https://www.bethelmc.org/wp-content/uploads/2026/03/03-15-26_High-School.png
ORGANIZER;CN="Beth El Religious School":MAILTO:abrown@bethelmc.org
END:VEVENT
BEGIN:VEVENT
DTSTART;TZID=America/New_York:20260315T190000
DTEND;TZID=America/New_York:20260315T194500
DTSTAMP:20260420T084130
CREATED:20260304T212156Z
LAST-MODIFIED:20260305T000612Z
UID:10001628-1773601200-1773603900@www.bethelmc.org
SUMMARY:The Road Ahead: Preparing for College
DESCRIPTION:Big transitions can feel overwhelming – for kids and for parents. Ready for the Next Step is a two-part workshop series designed to give families clarity and confidence during these pivotal years. \nIn Session 2\, we’ll discuss how to thoughtfully guide high school students toward college and independence: with practical advice\, big-picture perspective\, and space for real conversation. \nThese workshops will be led by two of Congregation Beth El’s congregants who run professional test preparation and college planning companies\, bringing both expertise and a deep understanding of our community. Join us for practical tools\, big-picture perspective\, and meaningful conversation as we support our children through what’s next. \nPlease use the form below to sign up for the 7:00 pm session. There is also a session available at 6:00 pm for parents of 7th & 8th graders. \n﻿
URL:https://www.bethelmc.org/events/road-ahead-0315b/
LOCATION:MD
CATEGORIES:Adult Education,Age and Stage,Family Education,Learn,Online Events and Activities,Religious School
ATTACH;FMTTYPE=image/png:https://www.bethelmc.org/wp-content/uploads/2026/03/03-15-26_College-Admissions.png
ORGANIZER;CN="Beth El Religious School":MAILTO:abrown@bethelmc.org
END:VEVENT
BEGIN:VEVENT
DTSTART;TZID=America/New_York:20260318T081500
DTEND;TZID=America/New_York:20260318T093000
DTSTAMP:20260420T084130
CREATED:20260107T203814Z
LAST-MODIFIED:20260303T170228Z
UID:10001576-1773821700-1773826200@www.bethelmc.org
SUMMARY:Mental Health Professionals Breakfast Study Group
DESCRIPTION:We invite Beth El Mental Health Professionals\, both working and retired\, to join us in person at Beth El for our Mental Health Professionals Study Group. Come for breakfast and a stimulating discussion of clinical issues viewed through a Jewish lens. Dr. Carol Miller will facilitate “What’s So Great About Forgiveness?” with Hazzan Fradkin on Wednesday\, March 18\, 8:15-9:30am. There is a $5 registration fee to defray the cost of breakfast. \n﻿﻿﻿
URL:https://www.bethelmc.org/events/mhp-breakfast-0318/
LOCATION:Congregation Beth El\, 8215 Old Georgetown Rd\, Bethesda\, MD\, 20814\, United States
CATEGORIES:Adult Education,Affinity Groups,Engage,Featured Events,Food & Drink
ATTACH;FMTTYPE=image/png:https://www.bethelmc.org/wp-content/uploads/2026/01/03-18-26_Mental-Health-Professionals-Breakfast-Study-Group.png
ORGANIZER;CN="Congregation Beth El":MAILTO:info@bethelmc.org
END:VEVENT
BEGIN:VEVENT
DTSTART;TZID=America/New_York:20260322T190000
DTEND;TZID=America/New_York:20260322T203000
DTSTAMP:20260420T084130
CREATED:20260311T205422Z
LAST-MODIFIED:20260311T205422Z
UID:10001634-1774206000-1774211400@www.bethelmc.org
SUMMARY:Chug Kriah
DESCRIPTION:Chug Kriah meets regularly to read and discuss modern Israeli literature in Hebrew. Our next meeting will be on Sunday\, March 22\, at 7:00 pm via Zoom. We will begin discussing Yonim b’Trafalgar (Pigeons at Trafalgar Square) by Sami Michael. For more information including the Zoom link\, please contact Bill Kanter at kanterdsw@aol.com.
URL:https://www.bethelmc.org/events/chug-kriah-0322/
LOCATION:MD
CATEGORIES:Adult Education,Affinity Groups,Israel,Learn
ATTACH;FMTTYPE=image/png:https://www.bethelmc.org/wp-content/uploads/2026/03/03-22-26_Chug-Kriah.png
ORGANIZER;CN="Congregation Beth El":MAILTO:info@bethelmc.org
END:VEVENT
END:VCALENDAR